Package: CTDquerier Version: 2.15.0 Command: /home/biocbuild/bbs-3.21-bioc/R/bin/R CMD check --install=check:CTDquerier.install-out.txt --library=/home/biocbuild/bbs-3.21-bioc/R/site-library --timings CTDquerier_2.15.0.tar.gz StartedAt: 2025-02-04 21:18:39 -0500 (Tue, 04 Feb 2025) EndedAt: 2025-02-04 21:44:42 -0500 (Tue, 04 Feb 2025) EllapsedTime: 1562.8 seconds RetCode: 0 Status: WARNINGS CheckDir: CTDquerier.Rcheck Warnings: 1