Package: CTDquerier Version: 2.15.0 Command: rm -rf CTDquerier.buildbin-libdir && mkdir CTDquerier.buildbin-libdir && E:\biocbuild\bbs-3.21-bioc\R\bin\R.exe CMD INSTALL --build --library=CTDquerier.buildbin-libdir CTDquerier_2.15.0.tar.gz StartedAt: 2025-02-10 07:33:02 -0500 (Mon, 10 Feb 2025) EndedAt: 2025-02-10 07:33:24 -0500 (Mon, 10 Feb 2025) EllapsedTime: 22.3 seconds RetCode: 0 Status: OK PackageFile: CTDquerier_2.15.0.zip PackageFileSize: 2.718 MiB