Package: CTDquerier Version: 2.15.0 Command: E:\biocbuild\bbs-3.21-bioc\R\bin\R.exe CMD INSTALL CTDquerier StartedAt: 2025-02-09 15:35:41 -0500 (Sun, 09 Feb 2025) EndedAt: 2025-02-09 15:36:13 -0500 (Sun, 09 Feb 2025) EllapsedTime: 31.4 seconds RetCode: 0 Status: OK