Package: CTSV Version: 1.9.0 Command: /home/biocbuild/R/R/bin/R CMD check --install=check:CTSV.install-out.txt --library=/home/biocbuild/R/R/site-library --no-vignettes --timings CTSV_1.9.0.tar.gz StartedAt: 2025-01-28 09:37:42 -0000 (Tue, 28 Jan 2025) EndedAt: 2025-01-28 09:42:18 -0000 (Tue, 28 Jan 2025) EllapsedTime: 276.2 seconds RetCode: 0 Status: OK CheckDir: CTSV.Rcheck Warnings: 0