Package: CTSV Version: 1.9.0 Command: /Library/Frameworks/R.framework/Resources/bin/R CMD INSTALL CTSV StartedAt: 2025-02-09 15:16:42 -0500 (Sun, 09 Feb 2025) EndedAt: 2025-02-09 15:17:19 -0500 (Sun, 09 Feb 2025) EllapsedTime: 36.8 seconds RetCode: 0 Status: OK