Package: CTSV Version: 1.9.0 Command: /home/biocbuild/bbs-3.21-bioc/R/bin/R CMD build --keep-empty-dirs --no-resave-data CTSV StartedAt: 2025-02-09 16:50:44 -0500 (Sun, 09 Feb 2025) EndedAt: 2025-02-09 16:51:31 -0500 (Sun, 09 Feb 2025) EllapsedTime: 47.0 seconds RetCode: 0 Status: OK PackageFile: CTSV_1.9.0.tar.gz PackageFileSize: 303.5 KiB