Package: CTSV Version: 1.9.0 Command: /home/biocbuild/bbs-3.21-bioc/R/bin/R CMD check --install=check:CTSV.install-out.txt --library=/home/biocbuild/bbs-3.21-bioc/R/site-library --timings CTSV_1.9.0.tar.gz StartedAt: 2025-02-09 21:20:48 -0500 (Sun, 09 Feb 2025) EndedAt: 2025-02-09 21:24:37 -0500 (Sun, 09 Feb 2025) EllapsedTime: 228.2 seconds RetCode: 0 Status: OK CheckDir: CTSV.Rcheck Warnings: 0