Package: CTSV Version: 1.9.0 Command: /home/biocbuild/bbs-3.21-bioc/R/bin/R CMD INSTALL CTSV StartedAt: 2025-02-09 15:19:53 -0500 (Sun, 09 Feb 2025) EndedAt: 2025-02-09 15:20:18 -0500 (Sun, 09 Feb 2025) EllapsedTime: 25.1 seconds RetCode: 0 Status: OK