Package: CTSV Version: 1.9.0 Command: rm -rf CTSV.buildbin-libdir && mkdir CTSV.buildbin-libdir && E:\biocbuild\bbs-3.21-bioc\R\bin\R.exe CMD INSTALL --build --library=CTSV.buildbin-libdir CTSV_1.9.0.tar.gz StartedAt: 2025-02-05 07:44:26 -0500 (Wed, 05 Feb 2025) EndedAt: 2025-02-05 07:44:54 -0500 (Wed, 05 Feb 2025) EllapsedTime: 28.5 seconds RetCode: 0 Status: OK PackageFile: CTSV_1.9.0.zip PackageFileSize: 325.6 KiB