Package: CTSV Version: 1.9.0 Command: E:\biocbuild\bbs-3.21-bioc\R\bin\R.exe CMD check --no-multiarch --install=check:CTSV.install-out.txt --library=E:\biocbuild\bbs-3.21-bioc\R\library --no-vignettes --timings CTSV_1.9.0.tar.gz StartedAt: 2025-02-05 00:33:39 -0500 (Wed, 05 Feb 2025) EndedAt: 2025-02-05 00:38:03 -0500 (Wed, 05 Feb 2025) EllapsedTime: 263.3 seconds RetCode: 0 Status: OK CheckDir: CTSV.Rcheck Warnings: 0