Package: CTdata Version: 1.7.0 Command: /Library/Frameworks/R.framework/Resources/bin/R CMD build --keep-empty-dirs --no-resave-data CTdata StartedAt: 2025-02-09 16:00:59 -0500 (Sun, 09 Feb 2025) EndedAt: 2025-02-09 16:04:05 -0500 (Sun, 09 Feb 2025) EllapsedTime: 185.1 seconds RetCode: 0 Status: OK PackageFile: CTdata_1.7.0.tar.gz PackageFileSize: 6.97 MiB