Package: CTdata Version: 1.7.0 Command: /Library/Frameworks/R.framework/Resources/bin/R CMD check --install=check:CTdata.install-out.txt --library=/Library/Frameworks/R.framework/Resources/library --no-vignettes --timings CTdata_1.7.0.tar.gz StartedAt: 2025-02-09 18:44:32 -0500 (Sun, 09 Feb 2025) EndedAt: 2025-02-09 18:45:16 -0500 (Sun, 09 Feb 2025) EllapsedTime: 44.5 seconds RetCode: 0 Status: OK CheckDir: CTdata.Rcheck Warnings: 0