Package: CTdata Version: 1.7.0 Command: /home/biocbuild/R/R/bin/R CMD build --keep-empty-dirs --no-resave-data CTdata StartedAt: 2025-01-28 22:11:28 -0000 (Tue, 28 Jan 2025) EndedAt: 2025-01-28 22:18:08 -0000 (Tue, 28 Jan 2025) EllapsedTime: 400.1 seconds RetCode: 0 Status: OK PackageFile: CTdata_1.7.0.tar.gz PackageFileSize: 7.066 MiB