Package: CTdata Version: 1.7.0 Command: /home/biocbuild/R/R/bin/R CMD INSTALL CTdata StartedAt: 2025-01-29 19:50:07 -0000 (Wed, 29 Jan 2025) EndedAt: 2025-01-29 19:50:25 -0000 (Wed, 29 Jan 2025) EllapsedTime: 18.6 seconds RetCode: 0 Status: OK