Package: CTdata Version: 1.7.0 Command: rm -rf CTdata.buildbin-libdir && mkdir CTdata.buildbin-libdir && /Users/biocbuild/BBS/utils/build-universal.sh CTdata_1.7.0.tar.gz /Library/Frameworks/R.framework/Resources/bin/R CTdata.buildbin-libdir StartedAt: 2025-02-10 00:48:51 -0500 (Mon, 10 Feb 2025) EndedAt: 2025-02-10 00:49:14 -0500 (Mon, 10 Feb 2025) EllapsedTime: 23.2 seconds RetCode: 0 Status: OK PackageFile: CTdata_1.7.0.tgz PackageFileSize: 6.426 MiB