Package: CTdata Version: 1.7.0 Command: /Library/Frameworks/R.framework/Resources/bin/R CMD build --keep-empty-dirs --no-resave-data CTdata StartedAt: 2025-02-04 16:22:51 -0500 (Tue, 04 Feb 2025) EndedAt: 2025-02-04 16:27:50 -0500 (Tue, 04 Feb 2025) EllapsedTime: 298.8 seconds RetCode: 0 Status: OK PackageFile: CTdata_1.7.0.tar.gz PackageFileSize: 6.97 MiB