Package: CTdata Version: 1.7.0 Command: /Library/Frameworks/R.framework/Resources/bin/R CMD INSTALL CTdata StartedAt: 2025-02-09 15:16:33 -0500 (Sun, 09 Feb 2025) EndedAt: 2025-02-09 15:16:53 -0500 (Sun, 09 Feb 2025) EllapsedTime: 19.7 seconds RetCode: 0 Status: OK