Package: CTdata Version: 1.7.0 Command: /home/biocbuild/bbs-3.21-bioc/R/bin/R CMD build --keep-empty-dirs --no-resave-data CTdata StartedAt: 2025-02-03 16:59:00 -0500 (Mon, 03 Feb 2025) EndedAt: 2025-02-03 17:05:28 -0500 (Mon, 03 Feb 2025) EllapsedTime: 387.4 seconds RetCode: 0 Status: OK PackageFile: CTdata_1.7.0.tar.gz PackageFileSize: 6.97 MiB