Package: CTdata Version: 1.7.0 Command: /home/biocbuild/bbs-3.21-bioc/R/bin/R CMD check --install=check:CTdata.install-out.txt --library=/home/biocbuild/bbs-3.21-bioc/R/site-library --timings CTdata_1.7.0.tar.gz StartedAt: 2025-02-04 21:18:35 -0500 (Tue, 04 Feb 2025) EndedAt: 2025-02-04 21:26:38 -0500 (Tue, 04 Feb 2025) EllapsedTime: 483.5 seconds RetCode: 0 Status: OK CheckDir: CTdata.Rcheck Warnings: 0