Package: CTdata Version: 1.7.0 Command: /home/biocbuild/bbs-3.21-bioc/R/bin/R CMD INSTALL CTdata StartedAt: 2025-02-03 15:35:08 -0500 (Mon, 03 Feb 2025) EndedAt: 2025-02-03 15:35:23 -0500 (Mon, 03 Feb 2025) EllapsedTime: 14.8 seconds RetCode: 0 Status: OK