Package: CTdata Version: 1.7.0 Command: rm -rf CTdata.buildbin-libdir && mkdir CTdata.buildbin-libdir && E:\biocbuild\bbs-3.21-bioc\R\bin\R.exe CMD INSTALL --build --library=CTdata.buildbin-libdir CTdata_1.7.0.tar.gz StartedAt: 2025-02-05 07:44:12 -0500 (Wed, 05 Feb 2025) EndedAt: 2025-02-05 07:44:40 -0500 (Wed, 05 Feb 2025) EllapsedTime: 27.8 seconds RetCode: 0 Status: OK PackageFile: CTdata_1.7.0.zip PackageFileSize: 6.445 MiB