Package: CTdata Version: 1.7.0 Command: E:\biocbuild\bbs-3.21-bioc\R\bin\R.exe CMD check --no-multiarch --install=check:CTdata.install-out.txt --library=E:\biocbuild\bbs-3.21-bioc\R\library --no-vignettes --timings CTdata_1.7.0.tar.gz StartedAt: 2025-02-05 00:32:29 -0500 (Wed, 05 Feb 2025) EndedAt: 2025-02-05 00:34:40 -0500 (Wed, 05 Feb 2025) EllapsedTime: 131.5 seconds RetCode: 0 Status: OK CheckDir: CTdata.Rcheck Warnings: 0