Package: CTdata Version: 1.7.0 Command: E:\biocbuild\bbs-3.21-bioc\R\bin\R.exe CMD INSTALL CTdata StartedAt: 2025-02-04 15:49:37 -0500 (Tue, 04 Feb 2025) EndedAt: 2025-02-04 15:50:17 -0500 (Tue, 04 Feb 2025) EllapsedTime: 40.0 seconds RetCode: 0 Status: OK