Package: CaDrA Version: 1.5.0 Command: /Library/Frameworks/R.framework/Resources/bin/R CMD INSTALL CaDrA StartedAt: 2025-02-05 15:13:19 -0500 (Wed, 05 Feb 2025) EndedAt: 2025-02-05 15:13:29 -0500 (Wed, 05 Feb 2025) EllapsedTime: 9.9 seconds RetCode: 0 Status: OK