Package: CaDrA Version: 1.5.0 Command: rm -rf CaDrA.buildbin-libdir && mkdir CaDrA.buildbin-libdir && /Users/biocbuild/BBS/utils/build-universal.sh CaDrA_1.5.0.tar.gz /Library/Frameworks/R.framework/Resources/bin/R CaDrA.buildbin-libdir StartedAt: 2025-02-06 00:21:50 -0500 (Thu, 06 Feb 2025) EndedAt: 2025-02-06 00:22:30 -0500 (Thu, 06 Feb 2025) EllapsedTime: 40.3 seconds RetCode: 0 Status: OK PackageFile: CaDrA_1.5.0.tgz PackageFileSize: 2.472 MiB