Package: CaDrA Version: 1.5.0 Command: /Library/Frameworks/R.framework/Resources/bin/R CMD check --install=check:CaDrA.install-out.txt --library=/Library/Frameworks/R.framework/Resources/library --no-vignettes --timings CaDrA_1.5.0.tar.gz StartedAt: 2025-02-05 19:20:35 -0500 (Wed, 05 Feb 2025) EndedAt: 2025-02-05 19:28:15 -0500 (Wed, 05 Feb 2025) EllapsedTime: 459.9 seconds RetCode: 0 Status: OK CheckDir: CaDrA.Rcheck Warnings: 0