Package: CaDrA Version: 1.5.0 Command: /home/biocbuild/bbs-3.21-bioc/R/bin/R CMD build --keep-empty-dirs --no-resave-data CaDrA StartedAt: 2025-02-05 16:29:22 -0500 (Wed, 05 Feb 2025) EndedAt: 2025-02-05 16:31:38 -0500 (Wed, 05 Feb 2025) EllapsedTime: 136.1 seconds RetCode: 0 Status: OK PackageFile: CaDrA_1.5.0.tar.gz PackageFileSize: 2.383 MiB