Package: CaDrA Version: 1.5.0 Command: rm -rf CaDrA.buildbin-libdir && mkdir CaDrA.buildbin-libdir && E:\biocbuild\bbs-3.21-bioc\R\bin\R.exe CMD INSTALL --build --library=CaDrA.buildbin-libdir CaDrA_1.5.0.tar.gz StartedAt: 2025-02-06 07:39:07 -0500 (Thu, 06 Feb 2025) EndedAt: 2025-02-06 07:39:48 -0500 (Thu, 06 Feb 2025) EllapsedTime: 40.4 seconds RetCode: 0 Status: OK PackageFile: CaDrA_1.5.0.zip PackageFileSize: 1.537 MiB