Package: CaDrA Version: 1.5.0 Command: E:\biocbuild\bbs-3.21-bioc\R\bin\R.exe CMD INSTALL CaDrA StartedAt: 2025-02-05 15:51:10 -0500 (Wed, 05 Feb 2025) EndedAt: 2025-02-05 15:51:57 -0500 (Wed, 05 Feb 2025) EllapsedTime: 47.0 seconds RetCode: 0 Status: OK