Package: CaMutQC Version: 1.3.0 Command: rm -rf CaMutQC.buildbin-libdir && mkdir CaMutQC.buildbin-libdir && /Users/biocbuild/BBS/utils/build-universal.sh CaMutQC_1.3.0.tar.gz /Library/Frameworks/R.framework/Resources/bin/R CaMutQC.buildbin-libdir StartedAt: 2025-02-04 22:10:05 -0500 (Tue, 04 Feb 2025) EndedAt: 2025-02-04 22:10:17 -0500 (Tue, 04 Feb 2025) EllapsedTime: 12.2 seconds RetCode: 0 Status: OK PackageFile: CaMutQC_1.3.0.tgz PackageFileSize: 4.118 MiB