Package: CaMutQC Version: 1.3.0 Command: /Library/Frameworks/R.framework/Resources/bin/R CMD build --keep-empty-dirs --no-resave-data CaMutQC StartedAt: 2025-02-04 15:47:07 -0500 (Tue, 04 Feb 2025) EndedAt: 2025-02-04 15:47:31 -0500 (Tue, 04 Feb 2025) EllapsedTime: 24.3 seconds RetCode: 0 Status: OK PackageFile: CaMutQC_1.3.0.tar.gz PackageFileSize: 4.842 MiB