Package: CaMutQC Version: 1.3.0 Command: /Library/Frameworks/R.framework/Resources/bin/R CMD check --install=check:CaMutQC.install-out.txt --library=/Library/Frameworks/R.framework/Resources/library --no-vignettes --timings CaMutQC_1.3.0.tar.gz StartedAt: 2025-02-04 18:24:14 -0500 (Tue, 04 Feb 2025) EndedAt: 2025-02-04 18:25:34 -0500 (Tue, 04 Feb 2025) EllapsedTime: 80.9 seconds RetCode: 0 Status: OK CheckDir: CaMutQC.Rcheck Warnings: 0