Package: CaMutQC Version: 1.3.0 Command: /home/biocbuild/R/R/bin/R CMD build --keep-empty-dirs --no-resave-data CaMutQC StartedAt: 2025-01-28 21:33:00 -0000 (Tue, 28 Jan 2025) EndedAt: 2025-01-28 21:34:41 -0000 (Tue, 28 Jan 2025) EllapsedTime: 101.0 seconds RetCode: 0 Status: OK PackageFile: CaMutQC_1.3.0.tar.gz PackageFileSize: 4.914 MiB