Package: CaMutQC Version: 1.3.0 Command: /home/biocbuild/R/R/bin/R CMD check --install=check:CaMutQC.install-out.txt --library=/home/biocbuild/R/R/site-library --no-vignettes --timings CaMutQC_1.3.0.tar.gz StartedAt: 2025-01-28 08:53:13 -0000 (Tue, 28 Jan 2025) EndedAt: 2025-01-28 08:57:52 -0000 (Tue, 28 Jan 2025) EllapsedTime: 279.2 seconds RetCode: 0 Status: OK CheckDir: CaMutQC.Rcheck Warnings: 0