Package: CaMutQC Version: 1.3.0 Command: /Library/Frameworks/R.framework/Resources/bin/R CMD build --keep-empty-dirs --no-resave-data CaMutQC StartedAt: 2025-02-09 16:09:21 -0500 (Sun, 09 Feb 2025) EndedAt: 2025-02-09 16:10:27 -0500 (Sun, 09 Feb 2025) EllapsedTime: 65.9 seconds RetCode: 0 Status: OK PackageFile: CaMutQC_1.3.0.tar.gz PackageFileSize: 4.843 MiB