Package: CaMutQC Version: 1.3.0 Command: /home/biocbuild/bbs-3.21-bioc/R/bin/R CMD build --keep-empty-dirs --no-resave-data CaMutQC StartedAt: 2025-02-04 16:28:28 -0500 (Tue, 04 Feb 2025) EndedAt: 2025-02-04 16:29:33 -0500 (Tue, 04 Feb 2025) EllapsedTime: 65.1 seconds RetCode: 0 Status: OK PackageFile: CaMutQC_1.3.0.tar.gz PackageFileSize: 4.843 MiB