Package: CaMutQC Version: 1.3.0 Command: /home/biocbuild/bbs-3.21-bioc/R/bin/R CMD check --install=check:CaMutQC.install-out.txt --library=/home/biocbuild/bbs-3.21-bioc/R/site-library --timings CaMutQC_1.3.0.tar.gz StartedAt: 2025-02-09 20:39:02 -0500 (Sun, 09 Feb 2025) EndedAt: 2025-02-09 20:43:09 -0500 (Sun, 09 Feb 2025) EllapsedTime: 247.3 seconds RetCode: 0 Status: OK CheckDir: CaMutQC.Rcheck Warnings: 0