Package: CaMutQC Version: 1.3.0 Command: E:\biocbuild\bbs-3.21-bioc\R\bin\R.exe CMD check --no-multiarch --install=check:CaMutQC.install-out.txt --library=E:\biocbuild\bbs-3.21-bioc\R\library --no-vignettes --timings CaMutQC_1.3.0.tar.gz StartedAt: 2025-02-09 23:20:05 -0500 (Sun, 09 Feb 2025) EndedAt: 2025-02-09 23:24:27 -0500 (Sun, 09 Feb 2025) EllapsedTime: 262.4 seconds RetCode: 0 Status: OK CheckDir: CaMutQC.Rcheck Warnings: 0