Package: Cardinal Version: 3.9.0 Command: /Library/Frameworks/R.framework/Resources/bin/R CMD check --install=check:Cardinal.install-out.txt --library=/Library/Frameworks/R.framework/Resources/library --no-vignettes --timings Cardinal_3.9.0.tar.gz StartedAt: 2025-02-12 18:24:43 -0500 (Wed, 12 Feb 2025) EndedAt: 2025-02-12 18:26:46 -0500 (Wed, 12 Feb 2025) EllapsedTime: 123.4 seconds RetCode: 0 Status: OK CheckDir: Cardinal.Rcheck Warnings: 0