Package: Cardinal Version: 3.9.0 Command: /Library/Frameworks/R.framework/Resources/bin/R CMD INSTALL Cardinal StartedAt: 2025-02-12 15:14:40 -0500 (Wed, 12 Feb 2025) EndedAt: 2025-02-12 15:14:49 -0500 (Wed, 12 Feb 2025) EllapsedTime: 9.1 seconds RetCode: 0 Status: OK