Package: Cardinal Version: 3.9.0 Command: /Library/Frameworks/R.framework/Resources/bin/R CMD INSTALL Cardinal StartedAt: 2025-02-09 15:24:36 -0500 (Sun, 09 Feb 2025) EndedAt: 2025-02-09 15:25:10 -0500 (Sun, 09 Feb 2025) EllapsedTime: 34.2 seconds RetCode: 0 Status: OK