Package: Cardinal Version: 3.9.0 Command: /home/biocbuild/bbs-3.21-bioc/R/bin/R CMD check --install=check:Cardinal.install-out.txt --library=/home/biocbuild/bbs-3.21-bioc/R/site-library --timings Cardinal_3.9.0.tar.gz StartedAt: 2025-02-12 20:35:57 -0500 (Wed, 12 Feb 2025) EndedAt: 2025-02-12 20:48:33 -0500 (Wed, 12 Feb 2025) EllapsedTime: 756.1 seconds RetCode: 0 Status: OK CheckDir: Cardinal.Rcheck Warnings: 0