Package: Cardinal Version: 3.9.0 Command: rm -rf Cardinal.buildbin-libdir && mkdir Cardinal.buildbin-libdir && E:\biocbuild\bbs-3.21-bioc\R\bin\R.exe CMD INSTALL --build --library=Cardinal.buildbin-libdir Cardinal_3.9.0.tar.gz StartedAt: 2025-02-10 07:22:34 -0500 (Mon, 10 Feb 2025) EndedAt: 2025-02-10 07:26:15 -0500 (Mon, 10 Feb 2025) EllapsedTime: 220.8 seconds RetCode: 0 Status: OK PackageFile: Cardinal_3.9.0.zip PackageFileSize: 3.371 MiB