Package: Cardinal Version: 3.9.0 Command: E:\biocbuild\bbs-3.21-bioc\R\bin\R.exe CMD INSTALL Cardinal StartedAt: 2025-02-09 15:46:20 -0500 (Sun, 09 Feb 2025) EndedAt: 2025-02-09 15:49:05 -0500 (Sun, 09 Feb 2025) EllapsedTime: 164.8 seconds RetCode: 0 Status: OK