Package: CardinalIO Version: 1.5.0 Command: rm -rf CardinalIO.buildbin-libdir && mkdir CardinalIO.buildbin-libdir && /Users/biocbuild/BBS/utils/build-universal.sh CardinalIO_1.5.0.tar.gz /Library/Frameworks/R.framework/Resources/bin/R CardinalIO.buildbin-libdir StartedAt: 2025-02-03 22:44:09 -0500 (Mon, 03 Feb 2025) EndedAt: 2025-02-03 22:44:16 -0500 (Mon, 03 Feb 2025) EllapsedTime: 7.2 seconds RetCode: 0 Status: OK PackageFile: CardinalIO_1.5.0.tgz PackageFileSize: 1.242 MiB