Package: CardinalIO Version: 1.5.0 Command: /Library/Frameworks/R.framework/Resources/bin/R CMD INSTALL CardinalIO StartedAt: 2025-02-09 15:12:57 -0500 (Sun, 09 Feb 2025) EndedAt: 2025-02-09 15:13:04 -0500 (Sun, 09 Feb 2025) EllapsedTime: 6.4 seconds RetCode: 0 Status: OK