Package: CardinalIO Version: 1.5.0 Command: /home/biocbuild/R/R/bin/R CMD build --keep-empty-dirs --no-resave-data CardinalIO StartedAt: 2025-01-28 21:34:37 -0000 (Tue, 28 Jan 2025) EndedAt: 2025-01-28 21:35:14 -0000 (Tue, 28 Jan 2025) EllapsedTime: 37.0 seconds RetCode: 0 Status: OK PackageFile: CardinalIO_1.5.0.tar.gz PackageFileSize: 1007 KiB