Package: CardinalIO Version: 1.5.0 Command: /home/biocbuild/bbs-3.21-bioc/R/bin/R CMD build --keep-empty-dirs --no-resave-data CardinalIO StartedAt: 2025-02-09 16:31:34 -0500 (Sun, 09 Feb 2025) EndedAt: 2025-02-09 16:32:00 -0500 (Sun, 09 Feb 2025) EllapsedTime: 26.0 seconds RetCode: 0 Status: OK PackageFile: CardinalIO_1.5.0.tar.gz PackageFileSize: 1015 KiB