Package: CardinalIO Version: 1.5.0 Command: /home/biocbuild/bbs-3.21-bioc/R/bin/R CMD INSTALL CardinalIO StartedAt: 2025-02-09 15:12:34 -0500 (Sun, 09 Feb 2025) EndedAt: 2025-02-09 15:12:50 -0500 (Sun, 09 Feb 2025) EllapsedTime: 16.6 seconds RetCode: 0 Status: OK