Package: CardinalIO Version: 1.5.0 Command: rm -rf CardinalIO.buildbin-libdir && mkdir CardinalIO.buildbin-libdir && E:\biocbuild\bbs-3.21-bioc\R\bin\R.exe CMD INSTALL --build --library=CardinalIO.buildbin-libdir CardinalIO_1.5.0.tar.gz StartedAt: 2025-02-04 07:37:03 -0500 (Tue, 04 Feb 2025) EndedAt: 2025-02-04 07:38:10 -0500 (Tue, 04 Feb 2025) EllapsedTime: 66.4 seconds RetCode: 0 Status: OK PackageFile: CardinalIO_1.5.0.zip PackageFileSize: 1.278 MiB